BEGIN:VCALENDAR
VERSION:2.0
PRODID:-// - ECPv6.15.17.1//NONSGML v1.0//EN
CALSCALE:GREGORIAN
METHOD:PUBLISH
X-ORIGINAL-URL:https://brisbanepolishschool.org.au/pl_pl
X-WR-CALDESC:Wydarzenia dla 
REFRESH-INTERVAL;VALUE=DURATION:PT1H
X-Robots-Tag:noindex
X-PUBLISHED-TTL:PT1H
BEGIN:VTIMEZONE
TZID:Australia/Brisbane
BEGIN:STANDARD
TZOFFSETFROM:+1000
TZOFFSETTO:+1000
TZNAME:AEST
DTSTART:20250101T000000
END:STANDARD
END:VTIMEZONE
BEGIN:VEVENT
DTSTART;TZID=Australia/Brisbane:20260809T103000
DTEND;TZID=Australia/Brisbane:20260809T233000
DTSTAMP:20260424T101554
CREATED:20260324T055944Z
LAST-MODIFIED:20260324T055944Z
UID:559-1786271400-1786318200@brisbanepolishschool.org.au
SUMMARY:Kawiarenka | Coffee Shop
DESCRIPTION:Po Niedzielnej Mszy Świętej w Our Lady of Victories Church (Matki Boskiej Zwyciężcej) na Bowen Hills\, Polska Szkoła zaprawsza na kawiarenkę gdzie będzie okazja napić się kawę lub herbatkę\, zjeść ciasto przygotowane przez rodziców uczniów Polskiej Szkoły\, wspierając rozwój języka ojczystego w młodszym pokoleniu.\n—\nAfter Sunday Holy Mass at Our Lady of Victories Church at Bowen Hills\, Brisbane Polish School invites you for coffee and cakes prepared by the parents of our students\, which supports the advancement of the Polish language in the next generation.
URL:https://brisbanepolishschool.org.au/pl_pl/event/kawiarenka-coffee-shop-5/
LOCATION:Our Lady of Victories Church\, 29 Cintra Road\, Bowen Hills\, QLD\, 4006\, Australia
CATEGORIES:Kawiarenka
ATTACH;FMTTYPE=image/png:https://brisbanepolishschool.org.au/wp-content/uploads/2026/03/ChatGPT-Image-Mar-24-2026-03_57_04-PM.png
END:VEVENT
BEGIN:VEVENT
DTSTART;TZID=Australia/Brisbane:20260823T093000
DTEND;TZID=Australia/Brisbane:20260823T223000
DTSTAMP:20260424T101554
CREATED:20260423T235008Z
LAST-MODIFIED:20260423T235008Z
UID:1125-1787477400-1787524200@brisbanepolishschool.org.au
SUMMARY:OLV: Uroczystość Matki Boskiej Częstochowskiej | Feast of Our Lady of Częstochowa
DESCRIPTION:Zapraszamy całą społeczność na uroczystą Mszę Świętą z okazji święta Matki Boskiej Częstochowskiej. Nasza szkoła będzie dumnie reprezentowana przez poczet sztandarowy. 🚩 \nWspominamy dziś czas “Potopu Szwedzkiego” i cudowną obronę Jasnej Góry w 1655 roku. To właśnie to zwycięstwo nad przeważającymi siłami wroga stało się punktem zwrotnym w historii Polski i natchnęło króla Jana Kazimierza do ogłoszenia Maryi Królową Polski. To symbol naszej niezłomności i wiary\, który przekazujemy kolejnym pokoleniom w Brisbane. 🇵🇱❤️🤍🛡️⚔️🏰 \n— \nJoin us as we celebrate the Feast of Our Lady of Częstochowa. Our Polish School will be honored to participate with our official school banner. 🚩 \nToday\, we look back at the “Swedish Deluge” and the miraculous siege of Jasna Góra in 1655. This legendary defense against overwhelming forces became a turning point for the Polish nation\, leading King John Casimir to crown Mary as the Queen of Poland. It is a story of resilience and faith that we are proud to share with our students today. 🇵🇱❤️🤍🛡️⚔️🏰
URL:https://brisbanepolishschool.org.au/pl_pl/event/matkaboskaczestochowska2026/
LOCATION:Our Lady of Victories Church\, 29 Cintra Road\, Bowen Hills\, QLD\, 4006\, Australia
CATEGORIES:OLV
ATTACH;FMTTYPE=image/png:https://brisbanepolishschool.org.au/wp-content/uploads/2026/04/Our-Lady-of-Czestochowa.png
END:VEVENT
END:VCALENDAR