BEGIN:VCALENDAR
VERSION:2.0
PRODID:-// - ECPv6.15.17.1//NONSGML v1.0//EN
CALSCALE:GREGORIAN
METHOD:PUBLISH
X-ORIGINAL-URL:https://brisbanepolishschool.org.au/pl_pl
X-WR-CALDESC:Wydarzenia dla 
REFRESH-INTERVAL;VALUE=DURATION:PT1H
X-Robots-Tag:noindex
X-PUBLISHED-TTL:PT1H
BEGIN:VTIMEZONE
TZID:Australia/Brisbane
BEGIN:STANDARD
TZOFFSETFROM:+1000
TZOFFSETTO:+1000
TZNAME:AEST
DTSTART:20250101T000000
END:STANDARD
END:VTIMEZONE
BEGIN:VEVENT
DTSTART;TZID=Australia/Brisbane:20260406T093000
DTEND;TZID=Australia/Brisbane:20260406T103000
DTSTAMP:20260424T084029
CREATED:20260407T051600Z
LAST-MODIFIED:20260407T051615Z
UID:1084-1775467800-1775471400@brisbanepolishschool.org.au
SUMMARY:OLV: Lany Poniedziałek - Śmigus Dyngus | Wet Monday
DESCRIPTION:Lany Poniedziałek to polska tradycja\, obchodzona w Poniedziałek Wielkanocny\, gdy dzieci i dorośli polewają się wodą jako znak wiosny\, życia i odnowienia. Jest głęboko powiązana z katolickim dziedzictwem Polski\, łącząc ludowe zwyczaje z wielkanocnym świętowaniem Zmartwychwstania Chrystusa oraz myśleniem o czyszczeniu i odnowieniu\, jakie przynosi chrzest.\n—\nWet Monday is a cherished Polish Easter Monday tradition\, where families and friends joyfully share water as a sign of spring\, life\, and renewal. It is deeply connected to Poland’s Catholic heritage\, blending folk custom with the Easter celebration of Christ’s Resurrection and the cleansing meaning of baptism.
URL:https://brisbanepolishschool.org.au/pl_pl/event/olv-lany-poniedzialek-smigus-dyngus-wet-monday/
LOCATION:Our Lady of Victories Church\, 29 Cintra Road\, Bowen Hills\, QLD\, 4006\, Australia
CATEGORIES:OLV
ATTACH;FMTTYPE=image/png:https://brisbanepolishschool.org.au/wp-content/uploads/2026/04/Smigus-Dingus.png
END:VEVENT
BEGIN:VEVENT
DTSTART;TZID=Australia/Brisbane:20260419T093000
DTEND;TZID=Australia/Brisbane:20260419T223000
DTSTAMP:20260424T084029
CREATED:20260407T052254Z
LAST-MODIFIED:20260407T052254Z
UID:1088-1776591000-1776637800@brisbanepolishschool.org.au
SUMMARY:OLV: Uroczyste Wspomnienie Rzezi w Katyniu i Bitwy pod Monte Cassino | Anniversary Katyń Massacre and Battle of Monte Cassino
DESCRIPTION:Katyń to miejsce masowego mordu popełnionego przez ZSRR w 1940 roku\, gdy NKWD rozstrzelało niemal 22 tysiące polskich oficerów\, policjantów i kręgów intelektualnych. Zamordowanie katyńskie\, długo zaprzeczane przez komunistyczny reżim\, stało się potężnym symbolem polskiej męczeństwa i oporu wobec totalitaryzmu. \nMonte Cassino to słynna bitwa podczas II wojny światowej we Włoszech (1944)\, gdzie alianckie siły\, a wśród nich II Korpus Polski dowodzony przez generała Władysława Andersa\, szturmowały dobrze umocnioną niemiecką pozycję opartą na historycznym opactwie benedyktyńskim. Po miesiącach okrutnych walk Polacy zdobyli wzgórze z opactwem\, przełamując linię Gustawa i otwierając drogę do Rzymu. \n— \nKatyn is the site of a Soviet mass murder in 1940\, when the NKVD executed nearly 22\,000 Polish officers\, policemen\, and intelligentsia in occupied Soviet territory. The massacre\, long denied by the communist regime\, became a powerful symbol of Polish martyrdom and resistance to totalitarianism. \nMonte Cassino refers to the famous World War II battle in Italy (1944)\, where the Allied forces\, including the Second Polish Corps under General Władysław Anders\, stormed a heavily fortified German position centered on the historic Benedictine abbey. After months of brutal fighting\, the Poles captured the monastery hill\, breaking the Gustav Line and opening the way to Rome.
URL:https://brisbanepolishschool.org.au/pl_pl/event/olv-uroczyste-wspomnienie-rzezi-w-katyniu-i-bitwy-pod-monte-cassino-anniversary-katyn-massacre-and-battle-of-monte-cassino/
LOCATION:Our Lady of Victories Church\, 29 Cintra Road\, Bowen Hills\, QLD\, 4006\, Australia
CATEGORIES:OLV
ATTACH;FMTTYPE=image/png:https://brisbanepolishschool.org.au/wp-content/uploads/2026/04/Monte-Cassino.png
END:VEVENT
BEGIN:VEVENT
DTSTART;VALUE=DATE:20260425
DTEND;VALUE=DATE:20260426
DTSTAMP:20260424T084029
CREATED:20260324T032057Z
LAST-MODIFIED:20260402T211515Z
UID:546-1777075200-1777161599@brisbanepolishschool.org.au
SUMMARY:ANZAC Day
DESCRIPTION:Święto państwowe obchodzone w Australii i Nowej Zelandii 25 kwietnia\, upamiętniające wszystkich\, którzy stracili życie w czasie operacji wojskowych tych krajów.\n—-\nA national day of remembrance commemorating all the Australians and New Zealanders who have lost their lives throughout all wars and conflicts that these countries have taken part in.
URL:https://brisbanepolishschool.org.au/pl_pl/event/anzac-day/
CATEGORIES:Public Holidays
ATTACH;FMTTYPE=image/png:https://brisbanepolishschool.org.au/wp-content/uploads/2026/03/ChatGPT-Image-Mar-24-2026-01_20_21-PM.png
END:VEVENT
END:VCALENDAR