BEGIN:VCALENDAR
VERSION:2.0
PRODID:-// - ECPv6.15.17.1//NONSGML v1.0//EN
CALSCALE:GREGORIAN
METHOD:PUBLISH
X-ORIGINAL-URL:https://brisbanepolishschool.org.au
X-WR-CALDESC:Events for 
REFRESH-INTERVAL;VALUE=DURATION:PT1H
X-Robots-Tag:noindex
X-PUBLISHED-TTL:PT1H
BEGIN:VTIMEZONE
TZID:Australia/Brisbane
BEGIN:STANDARD
TZOFFSETFROM:+1000
TZOFFSETTO:+1000
TZNAME:AEST
DTSTART:20250101T000000
END:STANDARD
END:VTIMEZONE
BEGIN:VEVENT
DTSTART;VALUE=DATE:20260718
DTEND;VALUE=DATE:20260719
DTSTAMP:20260425T222201
CREATED:20260423T233736Z
LAST-MODIFIED:20260423T233736Z
UID:1120-1784332800-1784419199@brisbanepolishschool.org.au
SUMMARY:Pierwszy dzień Trzeciego Kwartału | Start of Term 3
DESCRIPTION:🎒Witamy w trzecim kwartale! 🥳 Szkoła znowu tętni życiem. Mamy nadzieję\, że odpoczęliście i jesteście gotowi na nowe wyzwania\, polskie słówka i wspólną zabawę. Cieszymy się\, że znowu jesteśmy razem! ❤️🤍🦅📖 \n— \n🎒Welcome to Term 3! 🥳 The school is buzzing with life again. We hope you’re all well-rested and ready for new challenges\, Polish vocabulary\, and great times together. We are so happy to be back! ❤️🤍🦅📖
URL:https://brisbanepolishschool.org.au/event/term-3-2026/
LOCATION:Brisbane Polish School\, 29 Cintra Road\, Bowen Hills\, QLD\, 4006\, Australia
CATEGORIES:School Term
ATTACH;FMTTYPE=image/png:https://brisbanepolishschool.org.au/wp-content/uploads/2026/04/Start-Term-3.png
END:VEVENT
END:VCALENDAR