BEGIN:VCALENDAR
VERSION:2.0
PRODID:-// - ECPv6.15.17.1//NONSGML v1.0//EN
CALSCALE:GREGORIAN
METHOD:PUBLISH
X-ORIGINAL-URL:https://brisbanepolishschool.org.au
X-WR-CALDESC:Events for 
REFRESH-INTERVAL;VALUE=DURATION:PT1H
X-Robots-Tag:noindex
X-PUBLISHED-TTL:PT1H
BEGIN:VTIMEZONE
TZID:Australia/Brisbane
BEGIN:STANDARD
TZOFFSETFROM:+1000
TZOFFSETTO:+1000
TZNAME:AEST
DTSTART:20250101T000000
END:STANDARD
END:VTIMEZONE
BEGIN:VEVENT
DTSTART;TZID=Australia/Brisbane:20260517T103000
DTEND;TZID=Australia/Brisbane:20260517T233000
DTSTAMP:20260424T064637
CREATED:20260324T055837Z
LAST-MODIFIED:20260324T055837Z
UID:553-1779013800-1779060600@brisbanepolishschool.org.au
SUMMARY:Kawiarenka | Coffee Shop
DESCRIPTION:Po Niedzielnej Mszy Świętej w Our Lady of Victories Church (Matki Boskiej Zwyciężcej) na Bowen Hills\, Polska Szkoła zaprawsza na kawiarenkę gdzie będzie okazja napić się kawę lub herbatkę\, zjeść ciasto przygotowane przez rodziców uczniów Polskiej Szkoły\, wspierając rozwój języka ojczystego w młodszym pokoleniu.\n—\nAfter Sunday Holy Mass at Our Lady of Victories Church at Bowen Hills\, Brisbane Polish School invites you for coffee and cakes prepared by the parents of our students\, which supports the advancement of the Polish language in the next generation.
URL:https://brisbanepolishschool.org.au/event/kawiarenka-coffee-shop-2/
LOCATION:Our Lady of Victories Church\, 29 Cintra Road\, Bowen Hills\, QLD\, 4006\, Australia
CATEGORIES:Kawiarenka
ATTACH;FMTTYPE=image/png:https://brisbanepolishschool.org.au/wp-content/uploads/2026/03/ChatGPT-Image-Mar-24-2026-03_57_04-PM.png
END:VEVENT
BEGIN:VEVENT
DTSTART;TZID=Australia/Brisbane:20260530T100000
DTEND;TZID=Australia/Brisbane:20260530T130000
DTSTAMP:20260424T064637
CREATED:20260330T212119Z
LAST-MODIFIED:20260414T220329Z
UID:573-1780135200-1780146000@brisbanepolishschool.org.au
SUMMARY:Dzień Dziecka 2026 | Children's Day 2026
DESCRIPTION:🎉 Join us for a day of family entertainment\, delicious food\, and Polish culture 🇵🇱 at our Children’s Day event! \nGet ready for plenty of activities and laughter for all ages! 😄🎈 \n🌟 HIGHLIGHTS \n🔥 BBQ Polish Sausages: Authentic grill flavors straight from Poland 🌭🇵🇱!\n☕ Coffee Van: Enjoy your favorite coffee while you explore! \n✂️ Arts and Crafts Zone: Try your hand at traditional Polish crafts like wycinanki and enter the Best Craft Competition 🏆 to win a prize!\n🏰 Bouncy Castle: The ultimate kids’ energy outlet! 🎉\n🎨 Face Painting by Sparkly Fairy Face Painting: Get into the festive spirit with colorful designs 🌈!\n\n🪵 “Just Wood Fun”: Creative\, hands-on entertainment for all ages 🧩. \n🎧 Music by DJ Pawel: Dance 💃\, relax 🪩\, and enjoy the vibrant atmosphere all day long! \n👧🧒 Children’s Market: Our young participants will be selling tasty homemade treats 🍰\, arts 🖌️\, crafts 🎨\, and more. Come support their creativity and entrepreneurial spirit! 💪 \n🎟️ TICKETS\n👨‍👩‍👧‍👦 Family of 4: $15 (Additional Children: $2 each)\n🙋‍♂️ Individual Entry: $5 \nEveryone’s welcome — families\, children\, and community members! ❤️\nCome celebrate with us and enjoy a wonderful day filled with Polish food\, culture\, and fun! 🎶🌭🎨🇵🇱 \n  \nProudly supported by a grant from the 💙 BLUM Foundation
URL:https://brisbanepolishschool.org.au/event/childrens-day-2026/
LOCATION:Brisbane Polish School\, 29 Cintra Road\, Bowen Hills\, QLD\, 4006\, Australia
CATEGORIES:Fundraising Event
ATTACH;FMTTYPE=image/png:https://brisbanepolishschool.org.au/wp-content/uploads/2026/03/ChatGPT-Image-Mar-31-2026-07_17_06-AM.png
END:VEVENT
BEGIN:VEVENT
DTSTART;TZID=Australia/Brisbane:20260621T103000
DTEND;TZID=Australia/Brisbane:20260621T233000
DTSTAMP:20260424T064637
CREATED:20260324T055909Z
LAST-MODIFIED:20260324T055909Z
UID:555-1782037800-1782084600@brisbanepolishschool.org.au
SUMMARY:Kawiarenka | Coffee Shop
DESCRIPTION:Po Niedzielnej Mszy Świętej w Our Lady of Victories Church (Matki Boskiej Zwyciężcej) na Bowen Hills\, Polska Szkoła zaprawsza na kawiarenkę gdzie będzie okazja napić się kawę lub herbatkę\, zjeść ciasto przygotowane przez rodziców uczniów Polskiej Szkoły\, wspierając rozwój języka ojczystego w młodszym pokoleniu.\n—\nAfter Sunday Holy Mass at Our Lady of Victories Church at Bowen Hills\, Brisbane Polish School invites you for coffee and cakes prepared by the parents of our students\, which supports the advancement of the Polish language in the next generation.
URL:https://brisbanepolishschool.org.au/event/kawiarenka-coffee-shop-3/
LOCATION:Our Lady of Victories Church\, 29 Cintra Road\, Bowen Hills\, QLD\, 4006\, Australia
CATEGORIES:Kawiarenka
ATTACH;FMTTYPE=image/png:https://brisbanepolishschool.org.au/wp-content/uploads/2026/03/ChatGPT-Image-Mar-24-2026-03_57_04-PM.png
END:VEVENT
BEGIN:VEVENT
DTSTART;TZID=Australia/Brisbane:20260712T103000
DTEND;TZID=Australia/Brisbane:20260712T233000
DTSTAMP:20260424T064637
CREATED:20260324T055925Z
LAST-MODIFIED:20260324T055925Z
UID:557-1783852200-1783899000@brisbanepolishschool.org.au
SUMMARY:Kawiarenka | Coffee Shop
DESCRIPTION:Po Niedzielnej Mszy Świętej w Our Lady of Victories Church (Matki Boskiej Zwyciężcej) na Bowen Hills\, Polska Szkoła zaprawsza na kawiarenkę gdzie będzie okazja napić się kawę lub herbatkę\, zjeść ciasto przygotowane przez rodziców uczniów Polskiej Szkoły\, wspierając rozwój języka ojczystego w młodszym pokoleniu.\n—\nAfter Sunday Holy Mass at Our Lady of Victories Church at Bowen Hills\, Brisbane Polish School invites you for coffee and cakes prepared by the parents of our students\, which supports the advancement of the Polish language in the next generation.
URL:https://brisbanepolishschool.org.au/event/kawiarenka-coffee-shop-4/
LOCATION:Our Lady of Victories Church\, 29 Cintra Road\, Bowen Hills\, QLD\, 4006\, Australia
CATEGORIES:Kawiarenka
ATTACH;FMTTYPE=image/png:https://brisbanepolishschool.org.au/wp-content/uploads/2026/03/ChatGPT-Image-Mar-24-2026-03_57_04-PM.png
END:VEVENT
BEGIN:VEVENT
DTSTART;TZID=Australia/Brisbane:20260809T103000
DTEND;TZID=Australia/Brisbane:20260809T233000
DTSTAMP:20260424T064637
CREATED:20260324T055944Z
LAST-MODIFIED:20260324T055944Z
UID:559-1786271400-1786318200@brisbanepolishschool.org.au
SUMMARY:Kawiarenka | Coffee Shop
DESCRIPTION:Po Niedzielnej Mszy Świętej w Our Lady of Victories Church (Matki Boskiej Zwyciężcej) na Bowen Hills\, Polska Szkoła zaprawsza na kawiarenkę gdzie będzie okazja napić się kawę lub herbatkę\, zjeść ciasto przygotowane przez rodziców uczniów Polskiej Szkoły\, wspierając rozwój języka ojczystego w młodszym pokoleniu.\n—\nAfter Sunday Holy Mass at Our Lady of Victories Church at Bowen Hills\, Brisbane Polish School invites you for coffee and cakes prepared by the parents of our students\, which supports the advancement of the Polish language in the next generation.
URL:https://brisbanepolishschool.org.au/event/kawiarenka-coffee-shop-5/
LOCATION:Our Lady of Victories Church\, 29 Cintra Road\, Bowen Hills\, QLD\, 4006\, Australia
CATEGORIES:Kawiarenka
ATTACH;FMTTYPE=image/png:https://brisbanepolishschool.org.au/wp-content/uploads/2026/03/ChatGPT-Image-Mar-24-2026-03_57_04-PM.png
END:VEVENT
BEGIN:VEVENT
DTSTART;TZID=Australia/Brisbane:20261011T103000
DTEND;TZID=Australia/Brisbane:20261011T233000
DTSTAMP:20260424T064637
CREATED:20260324T060005Z
LAST-MODIFIED:20260324T060005Z
UID:561-1791714600-1791761400@brisbanepolishschool.org.au
SUMMARY:Kawiarenka | Coffee Shop
DESCRIPTION:Po Niedzielnej Mszy Świętej w Our Lady of Victories Church (Matki Boskiej Zwyciężcej) na Bowen Hills\, Polska Szkoła zaprawsza na kawiarenkę gdzie będzie okazja napić się kawę lub herbatkę\, zjeść ciasto przygotowane przez rodziców uczniów Polskiej Szkoły\, wspierając rozwój języka ojczystego w młodszym pokoleniu.\n—\nAfter Sunday Holy Mass at Our Lady of Victories Church at Bowen Hills\, Brisbane Polish School invites you for coffee and cakes prepared by the parents of our students\, which supports the advancement of the Polish language in the next generation.
URL:https://brisbanepolishschool.org.au/event/kawiarenka-coffee-shop-6/
LOCATION:Our Lady of Victories Church\, 29 Cintra Road\, Bowen Hills\, QLD\, 4006\, Australia
CATEGORIES:Kawiarenka
ATTACH;FMTTYPE=image/png:https://brisbanepolishschool.org.au/wp-content/uploads/2026/03/ChatGPT-Image-Mar-24-2026-03_57_04-PM.png
END:VEVENT
BEGIN:VEVENT
DTSTART;TZID=Australia/Brisbane:20261206T103000
DTEND;TZID=Australia/Brisbane:20261206T233000
DTSTAMP:20260424T064637
CREATED:20260324T060034Z
LAST-MODIFIED:20260324T060034Z
UID:563-1796553000-1796599800@brisbanepolishschool.org.au
SUMMARY:Kawiarenka | Coffee Shop
DESCRIPTION:Po Niedzielnej Mszy Świętej w Our Lady of Victories Church (Matki Boskiej Zwyciężcej) na Bowen Hills\, Polska Szkoła zaprawsza na kawiarenkę gdzie będzie okazja napić się kawę lub herbatkę\, zjeść ciasto przygotowane przez rodziców uczniów Polskiej Szkoły\, wspierając rozwój języka ojczystego w młodszym pokoleniu.\n—\nAfter Sunday Holy Mass at Our Lady of Victories Church at Bowen Hills\, Brisbane Polish School invites you for coffee and cakes prepared by the parents of our students\, which supports the advancement of the Polish language in the next generation.
URL:https://brisbanepolishschool.org.au/event/kawiarenka-coffee-shop-7/
LOCATION:Our Lady of Victories Church\, 29 Cintra Road\, Bowen Hills\, QLD\, 4006\, Australia
CATEGORIES:Kawiarenka
ATTACH;FMTTYPE=image/png:https://brisbanepolishschool.org.au/wp-content/uploads/2026/03/ChatGPT-Image-Mar-24-2026-03_57_04-PM.png
END:VEVENT
END:VCALENDAR