BEGIN:VCALENDAR
VERSION:2.0
PRODID:-// - ECPv6.15.17.1//NONSGML v1.0//EN
CALSCALE:GREGORIAN
METHOD:PUBLISH
X-ORIGINAL-URL:https://brisbanepolishschool.org.au
X-WR-CALDESC:Events for 
REFRESH-INTERVAL;VALUE=DURATION:PT1H
X-Robots-Tag:noindex
X-PUBLISHED-TTL:PT1H
BEGIN:VTIMEZONE
TZID:Australia/Brisbane
BEGIN:STANDARD
TZOFFSETFROM:+1000
TZOFFSETTO:+1000
TZNAME:AEST
DTSTART:20250101T000000
END:STANDARD
END:VTIMEZONE
BEGIN:VEVENT
DTSTART;VALUE=DATE:20260623
DTEND;VALUE=DATE:20260624
DTSTAMP:20260424T082919
CREATED:20260414T044344Z
LAST-MODIFIED:20260414T044344Z
UID:1107-1782172800-1782259199@brisbanepolishschool.org.au
SUMMARY:Dzień Taty w Polsce | Father's Day in Poland
DESCRIPTION:
URL:https://brisbanepolishschool.org.au/event/dzien-taty/
CATEGORIES:Commemorative day
ATTACH;FMTTYPE=image/png:https://brisbanepolishschool.org.au/wp-content/uploads/2026/04/Dzien-Ojca-in-traditional-Polish-style.png
END:VEVENT
END:VCALENDAR