BEGIN:VCALENDAR
VERSION:2.0
PRODID:-// - ECPv6.15.17.1//NONSGML v1.0//EN
CALSCALE:GREGORIAN
METHOD:PUBLISH
X-ORIGINAL-URL:https://brisbanepolishschool.org.au
X-WR-CALDESC:Events for 
REFRESH-INTERVAL;VALUE=DURATION:PT1H
X-Robots-Tag:noindex
X-PUBLISHED-TTL:PT1H
BEGIN:VTIMEZONE
TZID:Australia/Brisbane
BEGIN:STANDARD
TZOFFSETFROM:+1000
TZOFFSETTO:+1000
TZNAME:AEST
DTSTART:20250101T000000
END:STANDARD
END:VTIMEZONE
BEGIN:VEVENT
DTSTART;VALUE=DATE:20260526
DTEND;VALUE=DATE:20260527
DTSTAMP:20260424T065440
CREATED:20260414T044125Z
LAST-MODIFIED:20260414T044359Z
UID:1104-1779753600-1779839999@brisbanepolishschool.org.au
SUMMARY:Dzień Mamy w Polsce | Mother's Day in Poland
DESCRIPTION:
URL:https://brisbanepolishschool.org.au/event/dzien-mamy-w-polsce-mothers-day-in-poland/
CATEGORIES:Commemorative day
ATTACH;FMTTYPE=image/png:https://brisbanepolishschool.org.au/wp-content/uploads/2026/04/Dzien-Matki-in-traditional-style.png
END:VEVENT
END:VCALENDAR