BEGIN:VCALENDAR
VERSION:2.0
PRODID:-// - ECPv6.15.17.1//NONSGML v1.0//EN
CALSCALE:GREGORIAN
METHOD:PUBLISH
X-ORIGINAL-URL:https://brisbanepolishschool.org.au
X-WR-CALDESC:Events for 
REFRESH-INTERVAL;VALUE=DURATION:PT1H
X-Robots-Tag:noindex
X-PUBLISHED-TTL:PT1H
BEGIN:VTIMEZONE
TZID:Australia/Brisbane
BEGIN:STANDARD
TZOFFSETFROM:+1000
TZOFFSETTO:+1000
TZNAME:AEST
DTSTART:20250101T000000
END:STANDARD
END:VTIMEZONE
BEGIN:VEVENT
DTSTART;VALUE=DATE:20260502
DTEND;VALUE=DATE:20260503
DTSTAMP:20260424T050927
CREATED:20260414T035907Z
LAST-MODIFIED:20260414T035825Z
UID:1094-1777680000-1777766399@brisbanepolishschool.org.au
SUMMARY:Pierwszy dzień Drugiego Kwartału | Start of Term 2
DESCRIPTION:25 kwietnia 2026 był ANZAC Day\, więc początek drugiego kwartału będzie przeniesiony na 2 maja 2026. \n— \n25 April 2026 was ANZAC Day\, therefore the start of the term has been moved to 2 May 2026.
URL:https://brisbanepolishschool.org.au/event/pierwszy-dzien-drugiego-kwartalu-start-of-term-2/
LOCATION:Brisbane Polish School\, 29 Cintra Road\, Bowen Hills\, QLD\, 4006\, Australia
CATEGORIES:School Term
ATTACH;FMTTYPE=image/png:https://brisbanepolishschool.org.au/wp-content/uploads/2026/05/Powrot-dzieci-do-szkoly-poster.png
END:VEVENT
END:VCALENDAR