BEGIN:VCALENDAR
VERSION:2.0
PRODID:-// - ECPv6.15.17.1//NONSGML v1.0//EN
CALSCALE:GREGORIAN
METHOD:PUBLISH
X-ORIGINAL-URL:https://brisbanepolishschool.org.au
X-WR-CALDESC:Events for 
REFRESH-INTERVAL;VALUE=DURATION:PT1H
X-Robots-Tag:noindex
X-PUBLISHED-TTL:PT1H
BEGIN:VTIMEZONE
TZID:Australia/Brisbane
BEGIN:STANDARD
TZOFFSETFROM:+1000
TZOFFSETTO:+1000
TZNAME:AEST
DTSTART:20250101T000000
END:STANDARD
END:VTIMEZONE
BEGIN:VEVENT
DTSTART;TZID=Australia/Brisbane:20260607T093000
DTEND;TZID=Australia/Brisbane:20260607T223000
DTSTAMP:20260424T051133
CREATED:20260414T044700Z
LAST-MODIFIED:20260414T044700Z
UID:1110-1780824600-1780871400@brisbanepolishschool.org.au
SUMMARY:OLV: Boże Ciało | Corpus Christi
DESCRIPTION:
URL:https://brisbanepolishschool.org.au/event/olv-boze-cialo-corpus-christi/
LOCATION:Our Lady of Victories Church\, 29 Cintra Road\, Bowen Hills\, QLD\, 4006\, Australia
CATEGORIES:OLV
ATTACH;FMTTYPE=image/png:https://brisbanepolishschool.org.au/wp-content/uploads/2026/04/Procesja-Bozego-Ciala-w-Polsce.png
END:VEVENT
END:VCALENDAR